{"text_format":"1","workbook":"xlsx","n_sheets":14,"sheets":["Suggested Servings","September","October Overview","November Overview","December Overview","January Overview","February Overview","March Overview","April Overview","May Overview","June Overview","July Overview","August Overview","September '26 Overview"],"not_rendered":{"charts":0,"images":2,"macros":0,"external_links":0,"defined_names":19,"comments":0,"pivot_tables":0},"unopened":[],"bounds":{"document_bytes":16777216,"sheet_cells":100000,"rows_first":2000,"rows_last":500,"rows_between":2000,"halvings":0,"cell_chars":16384,"cell_head_chars":4096},"cells_cut":0,"cells_raw":0,"read":"whole","date_system":"1900"}

{"sheet":"Suggested Servings","index":0,"n_rows":80,"n_cols":6,"rows_kept":80,"cut":false,"hidden":false,"merged":[]}
["Product Type","Product Purchased","Unit of Measure","Pounds Per Unit","1/4 Cup Servings Per Unit of Measure","1/2 Cup Servings Per Unit of Measure"]
["Apple","Cameo Apples","Bushel",42,125,125]
["Apple","Fuji Apples","Bushel",42,125,125]
["Apple","Golden Delicious Apples","Bushel",42,125,125]
["Apple","Granny Smith Apples ","Bushel",42,125,125]
["Apple","Mutsu Apples","Bushel",42,125,125]
["Apple","Pink Lady Apples","Bushel",42,125,125]
["Apple","Red Delicious Apples","Bushel",42,125,125]
["Apple","Red Delicious Apples","Bushel",42,125,125]
["Apples","Sliced Apples","Pound",1,11.4,5.7]
["Beef","Ground Beef","Pound",1,{"$f":"Table2[[#This Row],[Pounds Per Unit]]*(11.8)","v":11.8},{"$f":"Table2[[#This Row],[1/4 Cup Servings Per Unit of Measure]]/(2)","v":5.9}]
["Blueberry","Blueberries","Half Pint",0.375,10.7,5.35]
["Blueberry","Blueberries","Pint",0.75,10.7,5.35]
["Blueberry","Blueberries","Pound",1,11.9,5.95]
["Broccoli","Broccoli","Pound",1,{"$f":"Table2[[#This Row],[Pounds Per Unit]]*(10.2)","v":10.199999999999999},{"$f":"Table2[[#This Row],[1/4 Cup Servings Per Unit of Measure]]/(2)","v":5.0999999999999996}]
["Cauliflower","Cauliflower","Pound",1,{"$f":"Table2[[#This Row],[Pounds Per Unit]]*(8.8)","v":8.8000000000000007},{"$f":"Table2[[#This Row],[1/4 Cup Servings Per Unit of Measure]]/2","v":4.4000000000000004}]
["Corn","Corn Cobbetts","Case",24,96,96]
["Corn","Corn Cobbetts","Each",0.25,1,1]
["Cucumber","Cucumbers","Each",1,{"$f":"Table2[[#This Row],[Pounds Per Unit]]*(10.5)","v":10.5},{"$f":"Table2[[#This Row],[1/4 Cup Servings Per Unit of Measure]]/(2)","v":5.25}]
["Cucumber","Cucumbers","Box",5,{"$f":"Table2[[#This Row],[Pounds Per Unit]]*(10.5)","v":52.5},{"$f":"Table2[[#This Row],[1/4 Cup Servings Per Unit of Measure]]/(2)","v":26.25}]
["Cucumber","Cucumbers","Case",11,{"$f":"Table2[[#This Row],[Pounds Per Unit]]*(10.5)","v":115.5},{"$f":"Table2[[#This Row],[1/4 Cup Servings Per Unit of Measure]]/(2)","v":57.75}]
["Honey","Honey","Quart Jar",2.85,{"$f":"Table2[[#This Row],[Pounds Per Unit]]*(22.3)","v":63.555000000000007},{"$f":"Table2[[#This Row],[1/4 Cup Servings Per Unit of Measure]]/(2)","v":31.777500000000003}]
["Honey","Honey","Bottle",2.2999999999999998,{"$f":"Table2[[#This Row],[Pounds Per Unit]]*(22.3)","v":51.29},{"$f":"Table2[[#This Row],[1/4 Cup Servings Per Unit of Measure]]/(2)","v":25.645}]
["Honey","Honey ","Pound",1,{"$f":"Table2[[#This Row],[Pounds Per Unit]]*(22.3)","v":22.3},{"$f":"Table2[[#This Row],[1/4 Cup Servings Per Unit of Measure]]/(2)","v":11.15}]
["Leafy Green","Artisan Lettuce","Case",16,{"$f":"Table2[[#This Row],[Pounds Per Unit]]*31.3","v":500.8},{"$f":"Table2[[#This Row],[Pounds Per Unit]]*15.65","v":250.4}]
["Leafy Green","Bibb Lettuce","Case",6,{"$f":"Table2[[#This Row],[Pounds Per Unit]]*31.3","v":187.8},{"$f":"Table2[[#This Row],[Pounds Per Unit]]*15.65","v":93.9}]
["Leafy Green","Bibb Lettuce","Case",5,{"$f":"Table2[[#This Row],[Pounds Per Unit]]*31.3","v":156.5},{"$f":"Table2[[#This Row],[Pounds Per Unit]]*15.65","v":78.25}]
["Leafy Green","Bibb Lettuce","Case",16,{"$f":"Table2[[#This Row],[Pounds Per Unit]]*31.3","v":500.8},{"$f":"Table2[[#This Row],[Pounds Per Unit]]*15.65","v":250.4}]
["Leafy Green","Cabbage","Pound",1,{"$f":"Table2[[#This Row],[Pounds Per Unit]]*(13.8)","v":13.8},{"$f":"Table2[[#This Row],[1/4 Cup Servings Per Unit of Measure]]/(2)","v":6.9}]
["Leafy Green","Cabbage","Head",2.5,{"$f":"Table2[[#This Row],[Pounds Per Unit]]*(13.8)","v":34.5},{"$f":"Table2[[#This Row],[1/4 Cup Servings Per Unit of Measure]]/(2)","v":17.25}]
["Leafy Green","Collards","Pound",1,{"$f":"Table2[[#This Row],[Pounds Per Unit]]*(10.5)","v":10.5},{"$f":"Table2[[#This Row],[1/4 Cup Servings Per Unit of Measure]]/(2)","v":5.25}]
["Leafy Green","Collards","Bag",5,{"$f":"Table2[[#This Row],[Pounds Per Unit]]*(10.5)","v":52.5},{"$f":"Table2[[#This Row],[1/4 Cup Servings Per Unit of Measure]]/(2)","v":26.25}]
["Leafy Green","Collards","Bag",2,{"$f":"Table2[[#This Row],[Pounds Per Unit]]*(10.5)","v":21},{"$f":"Table2[[#This Row],[1/4 Cup Servings Per Unit of Measure]]/(2)","v":10.5}]
["Leafy Green","Green Leaf Lettuce ","Case",5,{"$f":"Table2[[#This Row],[Pounds Per Unit]]*31.3","v":156.5},{"$f":"Table2[[#This Row],[Pounds Per Unit]]*15.65","v":78.25}]
["Leafy Green","Lettuce","Head",1,{"$f":"Table2[[#This Row],[Pounds Per Unit]]*31.3","v":31.3},{"$f":"Table2[[#This Row],[Pounds Per Unit]]*15.65","v":15.65}]
["Leafy Green","Romaine Lettuce","Head",0.25,{"$f":"Table2[[#This Row],[Pounds Per Unit]]*31.3","v":7.8250000000000002},{"$f":"Table2[[#This Row],[Pounds Per Unit]]*15.65","v":3.9125000000000001}]
["Leafy Green","Romaine Lettuce","Case",12,{"$f":"Table2[[#This Row],[Pounds Per Unit]]*31.3","v":375.6},{"$f":"Table2[[#This Row],[Pounds Per Unit]]*15.65","v":187.8}]
["Leafy Green","Romaine Lettuce","Case",16,{"$f":"Table2[[#This Row],[Pounds Per Unit]]*31.3","v":500.8},{"$f":"Table2[[#This Row],[Pounds Per Unit]]*15.65","v":250.4}]
["Leafy Green","Romaine Lettuce","Case",5,{"$f":"Table2[[#This Row],[Pounds Per Unit]]*31.3","v":156.5},{"$f":"Table2[[#This Row],[Pounds Per Unit]]*15.65","v":78.25}]
["Leafy Green","Romaine Lettuce","Bag",10,{"$f":"Table2[[#This Row],[Pounds Per Unit]]*31.3","v":313},{"$f":"Table2[[#This Row],[Pounds Per Unit]]*15.65","v":156.5}]
["Melon","Cantaloupe","Each",9,{"$f":"Table2[[#This Row],[Pounds Per Unit]]*(6.74)","v":60.660000000000004},{"$f":"Table2[[#This Row],[1/4 Cup Servings Per Unit of Measure]]/(2)","v":30.330000000000002}]
["Melon","Watermelon","Each",25,{"$f":"(Table2[[#This Row],[Pounds Per Unit]]-4.5)*6.1","v":125.05},{"$f":"Table2[[#This Row],[1/4 Cup Servings Per Unit of Measure]]/(2)","v":62.524999999999999}]
["Melon","Watermelon","Each",17,{"$f":"(Table2[[#This Row],[Pounds Per Unit]]-4.5)*6.1","v":76.25},{"$f":"Table2[[#This Row],[1/4 Cup Servings Per Unit of Measure]]/(2)","v":38.125}]
["Mushroom","Mushrooms","Case",1.5,{"$f":"Table2[[#This Row],[Pounds Per Unit]]*(8.3)","v":12.450000000000001},{"$f":"Table2[[#This Row],[1/4 Cup Servings Per Unit of Measure]]/(2)","v":6.2250000000000005}]
["Mushroom","Mushrooms","Pound",1,{"$f":"Table2[[#This Row],[Pounds Per Unit]]*(8.3)","v":8.3000000000000007},{"$f":"Table2[[#This Row],[1/4 Cup Servings Per Unit of Measure]]/(2)","v":4.1500000000000004}]
["Mushroom","Pearl Mushrooms ","Case",1.5,{"$f":"Table2[[#This Row],[Pounds Per Unit]]*(8.3)","v":12.450000000000001},{"$f":"Table2[[#This Row],[1/4 Cup Servings Per Unit of Measure]]/(2)","v":6.2250000000000005}]
["Mushroom","Summer White Mushrooms ","Case",1.5,{"$f":"Table2[[#This Row],[Pounds Per Unit]]*(8.3)","v":12.450000000000001},{"$f":"Table2[[#This Row],[1/4 Cup Servings Per Unit of Measure]]/(2)","v":6.2250000000000005}]
["Nut","Mini Pecan Pies","Case",4.5,24,24]
["Nut","Mini Pecan Pies","Each",0.1875,1,1]
["Onion","Sweet Onions ","Pound",1,{"$f":"Table2[[#This Row],[Pounds Per Unit]]*(7.1)","v":7.1},{"$f":"Table2[[#This Row],[1/4 Cup Servings Per Unit of Measure]]/(2)","v":3.55}]
["Pea","Pink Eye Peas","Bag",5,{"$f":"Table2[[#This Row],[Pounds Per Unit]]*(10.6)","v":53},{"$f":"Table2[[#This Row],[1/4 Cup Servings Per Unit of Measure]]/(2)","v":26.5}]
["Pea","Pink Eye Peas ","Pound",1,{"$f":"Table2[[#This Row],[Pounds Per Unit]]*(10.6)","v":10.6},{"$f":"Table2[[#This Row],[1/4 Cup Servings Per Unit of Measure]]/(2)","v":5.3}]
["Pepper","Bell Peppers","Each",0.25,{"$f":"Table2[[#This Row],[Pounds Per Unit]]*(9.7)","v":2.4249999999999998},{"$f":"Table2[[#This Row],[1/4 Cup Servings Per Unit of Measure]]/(2)","v":1.2124999999999999}]
["Pepper","Sweet Peppers","Pound",1,{"$f":"Table2[[#This Row],[Pounds Per Unit]]*(14)","v":14},{"$f":"Table2[[#This Row],[1/4 Cup Servings Per Unit of Measure]]/(2)","v":7}]
["Persimmon","Persimmons","Box",30,{"$f":"Table2[[#This Row],[Pounds Per Unit]]*(15.7)","v":471},{"$f":"Table2[[#This Row],[1/4 Cup Servings Per Unit of Measure]]/(2)","v":235.5}]
["Pork","Sausage Patties","Bag",4,{"$f":"Table2[[#This Row],[Pounds Per Unit]]*(7.52)","v":30.08},{"$f":"Table2[[#This Row],[1/4 Cup Servings Per Unit of Measure]]/(2)","v":15.04}]
["Pork","Sausage Patties","Patty",0.16,1,1]
["Potato","Sweet Potato Slabs","Bag",5,{"$f":"Table2[[#This Row],[Pounds Per Unit]]*(9.7)","v":48.5},{"$f":"Table2[[#This Row],[1/4 Cup Servings Per Unit of Measure]]/(2)","v":24.25}]
["Potato","Sweet Potatoes ","Bushel",40,{"$f":"Table2[[#This Row],[Pounds Per Unit]]*(6.6)","v":264},{"$f":"Table2[[#This Row],[1/4 Cup Servings Per Unit of Measure]]/(2)","v":132}]
["Satsuma","Satsumas","Case",40,135,135]
["Satsuma","Satsumas","Case",25,100,100]
["Satsuma","Satsumas","Case",20,67,67]
["Satsuma","Satsumas","Case",28,112,112]
["Seafood","Shrimp","Pound",1,{"$f":"Table2[[#This Row],[Pounds Per Unit]]*(9.92)","v":9.92},{"$f":"Table2[[#This Row],[1/4 Cup Servings Per Unit of Measure]]/(2)","v":4.96}]
["Strawberry","Strawberries","Box",7,{"$f":"Table2[[#This Row],[Pounds Per Unit]]*10.5","v":73.5},{"$f":"Table2[[#This Row],[Pounds Per Unit]]*5.25","v":36.75}]
["Squash","Butternut Squash","Box",15,{"$f":"Table2[[#This Row],[Pounds Per Unit]]*7.5","v":112.5},{"$f":"Table2[[#This Row],[Pounds Per Unit]]*3.75","v":56.25}]
["Tomato","Cherry Tomatoes","Pound",1,{"$f":"Table2[[#This Row],[Pounds Per Unit]]*(11)","v":11},{"$f":"Table2[[#This Row],[1/4 Cup Servings Per Unit of Measure]]/(2)","v":5.5}]
["Tomato","Cherry Tomatoes","Box",4,{"$f":"Table2[[#This Row],[Pounds Per Unit]]*(11)","v":44},{"$f":"Table2[[#This Row],[1/4 Cup Servings Per Unit of Measure]]/(2)","v":22}]
["Tomato","Grape Tomatoes ","Case",12,{"$f":"Table2[[#This Row],[Pounds Per Unit]]*(9.33)","v":111.96000000000001},{"$f":"Table2[[#This Row],[1/4 Cup Servings Per Unit of Measure]]/(2)","v":55.980000000000004}]
["Tomato","Grape Tomatoes ","Case",20,{"$f":"Table2[[#This Row],[Pounds Per Unit]]*(9.33)","v":186.6},{"$f":"Table2[[#This Row],[1/4 Cup Servings Per Unit of Measure]]/(2)","v":93.3}]
["Tomato","Heirloom Tomatoes","Pound",1,{"$f":"Table2[[#This Row],[Pounds Per Unit]]*(8.7)","v":8.6999999999999993},{"$f":"Table2[[#This Row],[1/4 Cup Servings Per Unit of Measure]]/(2)","v":4.3499999999999996}]
["Tomato","Red Tomatoes","Pound",1,{"$f":"Table2[[#This Row],[Pounds Per Unit]]*(7.6)","v":7.6},{"$f":"Table2[[#This Row],[1/4 Cup Servings Per Unit of Measure]]/(2)","v":3.8}]
["Tomato","Slicing Tomatoes ","Case",25,{"$f":"Table2[[#This Row],[Pounds Per Unit]]*(8.53)","v":213.24999999999997},{"$f":"Table2[[#This Row],[1/4 Cup Servings Per Unit of Measure]]/(2)","v":106.62499999999999}]
["Tomato","Slicing Tomatoes ","Pound",1,{"$f":"Table2[[#This Row],[Pounds Per Unit]]*(8.53)","v":8.5299999999999994},{"$f":"Table2[[#This Row],[1/4 Cup Servings Per Unit of Measure]]/(2)","v":4.2649999999999997}]
["Tomato","Tomatoes","Pound",1,{"$f":"Table2[[#This Row],[Pounds Per Unit]]*(7.6)","v":7.6},{"$f":"Table2[[#This Row],[1/4 Cup Servings Per Unit of Measure]]/(2)","v":3.8}]
["Tomato","Tomatoes ","Box",4,{"$f":"Table2[[#This Row],[Pounds Per Unit]]*(7.6)","v":30.4},{"$f":"Table2[[#This Row],[1/4 Cup Servings Per Unit of Measure]]/(2)","v":15.2}]
["Tomato","Tomatoes ","Box",10,{"$f":"Table2[[#This Row],[Pounds Per Unit]]*(7.6)","v":76},{"$f":"Table2[[#This Row],[1/4 Cup Servings Per Unit of Measure]]/(2)","v":38}]
["Tomato","Tomatoes, 5x6","Pound",1,{"$f":"Table2[[#This Row],[Pounds Per Unit]]*(7.6)","v":7.6},{"$f":"Table2[[#This Row],[1/4 Cup Servings Per Unit of Measure]]/(2)","v":3.8}]
["Tomato","Tomatoes, 6x6","Case",25,{"$f":"Table2[[#This Row],[Pounds Per Unit]]*(7.6)","v":190},{"$f":"Table2[[#This Row],[1/4 Cup Servings Per Unit of Measure]]/(2)","v":95}]
["Tomato","XL Cherry Tomatoes","Pound",1,{"$f":"Table2[[#This Row],[Pounds Per Unit]]*(12.1)","v":12.1},{"$f":"Table2[[#This Row],[1/4 Cup Servings Per Unit of Measure]]/(2)","v":6.05}]

{"sheet":"September","index":1,"n_rows":33,"n_cols":33,"rows_kept":33,"cut":false,"hidden":false,"merged":[[24,25,24,26],[25,3,25,4],[33,19,33,20],[31,3,31,4],[31,5,31,9],[31,10,31,14],[31,15,31,19],[31,20,31,24],[24,3,24,4],[24,5,24,9],[24,10,24,14],[24,15,24,19],[24,20,24,24],[31,25,31,26],[32,3,32,4],[32,5,32,19],[20,4,20,9],[20,10,20,15],[20,16,20,19],[20,20,20,26],[23,3,23,26],[18,4,18,9],[18,10,18,15],[18,16,18,19],[18,20,18,26],[19,4,19,9],[19,10,19,15],[19,16,19,19],[19,20,19,26],[16,4,16,9],[16,10,16,15],[16,16,16,19],[16,20,16,26],[17,4,17,9],[17,10,17,15],[17,16,17,19],[17,20,17,26],[14,4,14,9],[14,10,14,15],[14,16,14,19],[14,20,14,26],[15,4,15,9],[15,10,15,15],[15,16,15,19],[15,20,15,26],[12,4,12,9],[12,10,12,15],[12,16,12,19],[12,20,12,26],[13,4,13,9],[13,10,13,15],[13,16,13,19],[13,20,13,26],[0,19,0,20],[1,3,3,7],[4,4,4,7],[7,3,7,14],[11,4,11,9],[11,10,11,15],[11,16,11,19],[11,20,11,26],[10,4,10,9],[10,10,10,15],[10,16,10,19],[10,20,10,26],[8,3,8,6],[32,20,32,26],[26,3,26,4],[27,3,27,4],[28,3,28,4],[29,3,29,4],[30,3,30,4]]}
[]
[null,null,null,"Farm to School - Local Food Incentive Form"]
[]
[]
[]
[]
[]
[null,null,null,"(Enter CNP District/System Name)"]
[null,null,null,"September 1, 2025 - September 30, 2025"]
[]
[null,null,null,"Product","Amount Purchased",null,null,null,null,null,"Received From\n(Distributor or Direct Sale from Farmer)",null,null,null,null,null,"Origin of Product (County)",null,null,null,"Farm/Farmer Name",null,null,null,null,null,null,null,null,null,null,null,"Monday"]
[null,null,null,null,null,null,null,null,null,null,null,null,null,null,null,null,null,null,null,null,null,null,null,null,null,null,null,null,null,null,null,null,"Tuesday"]
[null,null,null,null,null,null,null,null,null,null,null,null,null,null,null,null,null,null,null,null,null,null,null,null,null,null,null,null,null,null,null,null,"Wednesday"]
[null,null,null,null,null,null,null,null,null,null,null,null,null,null,null,null,null,null,null,null,null,null,null,null,null,null,null,null,null,null,null,null,"Thursday"]
[null,null,null,null,null,null,null,null,null,null,null,null,null,null,null,null,null,null,null,null,null,null,null,null,null,null,null,null,null,null,null,null,"Friday"]
[]
[]
[]
[]
[]
[]
[]
[]
[null,null,null,"Number of Meal Components Served from Alabama"]
[null,null,null,null,null,"9/1 - 9/5",null,null,null,null,"9/8 - 9/12",null,null,null,null,"9/15 - 9/19",null,null,null,null,"9/22 - 9/26",null,null,null,null,"9/29 - 9/30"]
[null,null,null,"Name",null,"M","T","W","T","F","M","T","W","T","F","M","T","W","T","F","M","T","W","T","F","M","T"]
[null,null,null,"Breakfast"]
[null,null,null,"Lunch"]
[null,null,null,"After School Snack"]
[null,null,null,"FFVP Program"]
[null,null,null,"Supper/Dinner Service"]
[null,null,null,"Total Meals Per Week",null,{"$f":"SUM(F27:J31)","v":0},null,null,null,null,{"$f":"SUM(K27:O31)","v":0},null,null,null,null,{"$f":"SUM(P27:T31)","v":0},null,null,null,null,{"$f":"SUM(U27:Y31)","v":0},null,null,null,null,{"$f":"SUM(Z27:AA31)","v":0}]
[null,null,null,null,null,"Total Estimated Payment",null,null,null,null,null,null,null,null,null,null,null,null,null,null,{"$f":"SUM(F32:AA32)*0.2","v":0},null,null,null,null,null,null,null,null,{"$f":"W33","v":0}]

{"sheet":"October Overview","index":2,"n_rows":33,"n_cols":33,"rows_kept":33,"cut":false,"hidden":false,"merged":[[32,22,32,26],[32,4,32,21],[14,16,14,19],[15,20,15,26],[16,20,16,26],[17,16,17,19],[16,16,16,19],[15,16,15,19],[24,22,24,26],[31,22,31,26],[18,20,18,26],[19,20,19,26],[17,10,17,15],[18,10,18,15],[24,7,24,11],[15,4,15,9],[8,3,8,5],[4,4,4,7],[7,3,7,14],[0,19,0,20],[1,3,3,7],[12,16,12,19],[11,16,11,19],[11,20,11,26],[12,20,12,26],[10,16,10,19],[10,20,10,26],[13,16,13,19],[17,20,17,26],[13,20,13,26],[14,20,14,26],[33,19,33,20],[24,12,24,16],[24,17,24,21],[20,20,20,26],[23,3,23,26],[19,16,19,19],[17,4,17,9],[18,4,18,9],[19,4,19,9],[20,4,20,9],[19,10,19,15],[14,4,14,9],[10,4,10,9],[10,10,10,15],[11,4,11,9],[12,4,12,9],[13,4,13,9],[11,10,11,15],[12,10,12,15],[13,10,13,15],[16,4,16,9],[14,10,14,15],[15,10,15,15],[16,10,16,15],[20,10,20,15],[18,16,18,19],[20,16,20,19],[24,4,24,6],[31,4,31,6],[31,7,31,11],[31,12,31,16],[31,17,31,21]]}
[]
[null,null,null,"Farm to School - Local Food Incentive Form"]
[]
[]
[]
[]
[]
[null,null,null,{"$f":"September!D8","v":"(Enter CNP District/System Name)"}]
[null,null,null,"October 1, 2025 - October 31, 2025"]
[]
[null,null,null,"Product","Amount Purchased",null,null,null,null,null,"Received From\n(Distributor or Direct Sale from Farmer)",null,null,null,null,null,"Origin of Product (County)",null,null,null,"Farm/Farmer Name",null,null,null,null,null,null,null,null,null,null,null,"Monday"]
[null,null,null,null,null,null,null,null,null,null,null,null,null,null,null,null,null,null,null,null,null,null,null,null,null,null,null,null,null,null,null,null,"Tuesday"]
[null,null,null,null,null,null,null,null,null,null,null,null,null,null,null,null,null,null,null,null,null,null,null,null,null,null,null,null,null,null,null,null,"Wednesday"]
[null,null,null,null,null,null,null,null,null,null,null,null,null,null,null,null,null,null,null,null,null,null,null,null,null,null,null,null,null,null,null,null,"Thursday"]
[null,null,null,null,null,null,null,null,null,null,null,null,null,null,null,null,null,null,null,null,null,null,null,null,null,null,null,null,null,null,null,null,"Friday"]
[]
[]
[]
[]
[]
[]
[]
[]
[null,null,null,"Number of Meal Components Served from Alabama"]
[null,null,null,null,"10/1 - 10/4",null,null,"10/6 - 10/10",null,null,null,null,"10/13 - 10/17",null,null,null,null,"10/20 - 10/24",null,null,null,null,"10/27 - 10/31"]
[null,null,null,"Name","W","T","F","M","T","W","T","F","M","T","W","T","F","M","T","W","T","F","M","T","W","T","F"]
[null,null,null,"Breakfast"]
[null,null,null,"Lunch"]
[null,null,null,"After School Snack"]
[null,null,null,"FFVP Program"]
[null,null,null,"Supper/Dinner Service"]
[null,null,null,"Total Meals Per Week",{"$f":"SUM(E27:G31)","v":0},null,null,{"$f":"SUM(H27:L31)","v":0},null,null,null,null,{"$f":"SUM(M27:Q31)","v":0},null,null,null,null,{"$f":"SUM(R27:V31)","v":0},null,null,null,null,{"$f":"SUM(W27:AA31)","v":0}]
[null,null,null,null,"Total Estimated Payment",null,null,null,null,null,null,null,null,null,null,null,null,null,null,null,null,null,{"$f":"(SUM(E32:AA32)*0.2)","v":0},null,null,null,null,null,null,{"$f":"W33","v":0}]

{"sheet":"November Overview","index":3,"n_rows":33,"n_cols":28,"rows_kept":33,"cut":false,"hidden":false,"merged":[[32,3,32,4],[32,5,32,19],[0,16,0,17],[1,3,3,4],[10,18,10,24],[11,18,11,24],[7,3,7,14],[19,14,19,17],[24,15,24,19],[10,4,10,7],[10,8,10,13],[16,14,16,17],[10,14,10,17],[11,4,11,7],[11,8,11,13],[12,4,12,7],[12,8,12,13],[11,14,11,17],[12,14,12,17],[12,18,12,24],[24,20,24,24],[18,18,18,24],[19,18,19,24],[20,14,20,17],[32,20,32,24],[31,20,31,24],[13,18,13,24],[14,18,14,24],[15,18,15,24],[16,18,16,24],[17,18,17,24],[20,18,20,24],[33,16,33,17],[13,4,13,7],[13,8,13,13],[13,14,13,17],[14,4,14,7],[14,8,14,13],[14,14,14,17],[18,4,18,7],[18,8,18,13],[18,14,18,17],[19,4,19,7],[19,8,19,13],[15,4,15,7],[15,8,15,13],[20,4,20,7],[20,8,20,13],[31,5,31,9],[31,10,31,14],[31,15,31,19],[23,3,23,24],[24,5,24,9],[24,10,24,14],[25,3,25,4],[26,3,26,4],[27,3,27,4],[28,3,28,4],[29,3,29,4],[30,3,30,4],[31,3,31,4],[16,4,16,7],[16,8,16,13],[15,14,15,17],[17,4,17,7],[17,8,17,13],[17,14,17,17]]}
[]
[null,null,null,"Farm to School - Local Food Incentive Form"]
[]
[]
[]
[]
[]
[null,null,null,{"$f":"'October Overview'!D8","v":"(Enter CNP District/System Name)"}]
[null,null,null,"November 1, 2025 - November 30, 2025"]
[]
[null,null,null,"Product","Amount Purchased",null,null,null,"Received From\n(Distributor or Direct Sale from Farmer)",null,null,null,null,null,"Origin of Product (County)",null,null,null,"Farm/Farmer Name"]
[]
[]
[]
[]
[]
[]
[]
[]
[]
[]
[]
[]
[null,null,null,"Number of Meal Components Served from Alabama"]
[null,null,null,null,null,"11/3 - 11/7",null,null,null,null,"11/10 - 11/14",null,null,null,null,"11/17 - 11/21",null,null,null,null,"11/24 - 11/28"]
[null,null,null,"Name",null,"M","T","W","T","F","M","T","W","T","F","M","T","W","T","F","M","T","W","T","F"]
[null,null,null,"Breakfast"]
[null,null,null,"Lunch"]
[null,null,null,"After School Snack"]
[null,null,null,"FFVP Program"]
[null,null,null,"Supper/Dinner Service"]
[null,null,null,"Total Meals Per Week",null,{"$f":"SUM(F27:J31)","v":0},null,null,null,null,{"$f":"SUM(K27:O31)","v":0},null,null,null,null,{"$f":"SUM(P27:T31)","v":0},null,null,null,null,{"$f":"SUM(U27:Y31)","v":0}]
[null,null,null,null,null,"Total Estimated Payment",null,null,null,null,null,null,null,null,null,null,null,null,null,null,{"$f":"(SUM(F32:Y32)*0.2)","v":0},null,null,null,null,null,null,{"$f":"U33","v":0}]

{"sheet":"December Overview","index":4,"n_rows":33,"n_cols":27,"rows_kept":33,"cut":false,"hidden":false,"merged":[[12,20,12,26],[14,20,14,26],[16,20,16,26],[18,20,18,26],[13,4,13,9],[14,4,14,9],[15,4,15,9],[16,4,16,9],[17,4,17,9],[18,10,18,15],[18,16,18,19],[33,22,33,23],[31,9,31,13],[31,14,31,18],[31,19,31,23],[16,10,16,15],[16,16,16,19],[17,10,17,15],[17,16,17,19],[24,19,24,23],[20,10,20,15],[20,16,20,19],[32,4,32,18],[17,20,17,26],[19,20,19,26],[31,24,31,26],[24,24,24,26],[19,10,19,15],[19,16,19,19],[0,22,0,23],[1,3,3,10],[4,4,4,10],[7,3,7,17],[12,10,12,15],[12,16,12,19],[10,10,10,15],[10,16,10,19],[10,20,10,26],[11,20,11,26],[13,20,13,26],[15,20,15,26],[18,4,18,9],[19,4,19,9],[11,4,11,9],[15,10,15,15],[15,16,15,19],[11,10,11,15],[11,16,11,19],[14,10,14,15],[14,16,14,19],[13,10,13,15],[13,16,13,19],[12,4,12,9],[20,20,20,26],[20,4,20,9],[24,14,24,18],[24,9,24,13],[32,19,32,26],[24,4,24,8],[31,4,31,8]]}
[]
[null,null,null,"Farm to School - Local Food Incentive Form"]
[]
[]
[]
[]
[]
[null,null,null,{"$f":"'October Overview'!D8","v":"(Enter CNP District/System Name)"}]
[null,null,null,"December 1, 2025 - December 31, 2025"]
[]
[null,null,null,"Product","Amount Purchased",null,null,null,null,null,"Received From\n(Distributor or Direct Sale from Farmer)",null,null,null,null,null,"Origin of Product (County)",null,null,null,"Farm/Farmer Name"]
[]
[]
[]
[]
[]
[]
[]
[]
[]
[]
[]
[]
[null,null,null,"Number of Meal Components Served from Alabama"]
[null,null,null,null,"12/1 - 12/5",null,null,null,null,"12/8 - 12/12",null,null,null,null,"12/15 - 12/19",null,null,null,null,"12/22 - 12/26",null,null,null,null,"12/30 - 12/31"]
[null,null,null,"Name","M","T","W","T","F","M","T","W","T","F","M","T","W","T","F","M","T","W","T","F","M","T","T"]
[null,null,null,"Breakfast"]
[null,null,null,"Lunch"]
[null,null,null,"After School Snack"]
[null,null,null,"FFVP Program"]
[null,null,null,"Supper/Dinner Service"]
[null,null,null,"Total Meals Per Week",{"$f":"SUM(E27:I31)","v":0},null,null,null,null,{"$f":"SUM(J27:N31)","v":0},null,null,null,null,{"$f":"SUM(O27:S31)","v":0},null,null,null,null,{"$f":"SUM(T27:X31)","v":0},null,null,null,null,{"$f":"SUM(Y27:AA31)","v":0}]
[null,null,null,null,"Total Estimated Payment",null,null,null,null,null,null,null,null,null,null,null,null,null,null,{"$f":"(SUM(E32:AA32)*0.2)","v":0}]

{"sheet":"January Overview","index":5,"n_rows":33,"n_cols":30,"rows_kept":33,"cut":false,"hidden":false,"merged":[[31,5,31,6],[24,3,24,4],[25,3,25,4],[26,3,26,4],[27,3,27,4],[28,3,28,4],[29,3,29,4],[30,3,30,4],[31,3,31,4],[32,5,32,21],[0,19,0,20],[1,3,3,7],[4,4,4,7],[7,3,7,14],[8,3,8,6],[10,16,10,19],[10,20,10,26],[17,20,17,26],[15,20,15,26],[13,16,13,19],[14,16,14,19],[13,20,13,26],[14,20,14,26],[15,16,15,19],[24,5,24,6],[16,20,16,26],[17,16,17,19],[16,16,16,19],[11,20,11,26],[12,20,12,26],[33,19,33,20],[23,3,23,26],[19,4,19,9],[19,10,19,15],[20,4,20,9],[20,10,20,15],[24,7,24,11],[31,7,31,11],[24,12,24,16],[24,17,24,21],[24,22,24,26],[31,12,31,16],[32,22,32,26],[31,17,31,21],[31,22,31,26],[32,3,32,4],[17,4,17,9],[18,16,18,19],[10,4,10,9],[10,10,10,15],[11,4,11,9],[11,10,11,15],[17,10,17,15],[18,4,18,9],[18,10,18,15],[12,16,12,19],[16,4,16,9],[16,10,16,15],[11,16,11,19],[14,4,14,9],[14,10,14,15],[15,4,15,9],[15,10,15,15],[12,4,12,9],[12,10,12,15],[13,4,13,9],[13,10,13,15],[18,20,18,26],[19,20,19,26],[20,20,20,26],[19,16,19,19],[20,16,20,19]]}
[]
[null,null,null,"Farm to School - Local Food Incentive Form"]
[]
[]
[]
[]
[]
[null,null,null,{"$f":"'October Overview'!D8","v":"(Enter CNP District/System Name)"}]
[null,null,null,"January 1, 2026 - January 31, 2026"]
[]
[null,null,null,"Product","Amount Purchased",null,null,null,null,null,"Received From\n(Distributor or Direct Sale from Farmer)",null,null,null,null,null,"Origin of Product (County)",null,null,null,"Farm/Farmer Name"]
[]
[]
[]
[]
[]
[]
[]
[]
[]
[]
[]
[]
[null,null,null,"Number of Meal Components Served from Alabama"]
[null,null,null,null,null,"1/1- 1/2",null,"1/5 - 1/9",null,null,null,null,"1/12 - 1/16",null,null,null,null,"1/19 - 1/23",null,null,null,null,"1/26 - 1/31"]
[null,null,null,"Name",null,"T","F","M","T","W","T","F","M","T","W","T","F","M","T","W","T","F","M","T","W","T","F"]
[null,null,null,"Breakfast"]
[null,null,null,"Lunch"]
[null,null,null,"After School Snack"]
[null,null,null,"FFVP Program"]
[null,null,null,"Supper/Dinner Service"]
[null,null,null,"Total Meals Per Week",null,{"$f":"SUM(F27:G31)","v":0},null,{"$f":"SUM(H27:L31)","v":0},null,null,null,null,{"$f":"SUM(M27:Q31)","v":0},null,null,null,null,{"$f":"SUM(R27:V31)","v":0},null,null,null,null,{"$f":"SUM(W27:AA31)","v":0}]
[null,null,null,null,null,"Total Estimated Payment",null,null,null,null,null,null,null,null,null,null,null,null,null,null,null,null,{"$f":"(SUM(F32:AA32)*0.2)","v":0},null,null,null,null,null,null,{"$f":"W33","v":0}]

{"sheet":"February Overview","index":6,"n_rows":33,"n_cols":28,"rows_kept":33,"cut":false,"hidden":false,"merged":[[10,10,10,15],[10,16,10,19],[10,20,10,24],[11,4,11,9],[11,10,11,15],[0,18,0,19],[1,3,3,6],[4,4,4,6],[7,3,7,13],[8,3,8,6],[12,10,12,15],[11,16,11,19],[13,20,13,24],[14,16,14,19],[14,20,14,24],[11,20,11,24],[12,16,12,19],[12,20,12,24],[15,16,15,19],[15,20,15,24],[19,10,19,15],[19,16,19,19],[13,4,13,9],[13,10,13,15],[14,4,14,9],[14,10,14,15],[15,4,15,9],[15,10,15,15],[13,16,13,19],[18,10,18,15],[18,16,18,19],[19,20,19,24],[16,10,16,15],[16,16,16,19],[33,18,33,19],[23,3,23,24],[24,3,24,4],[31,3,31,4],[26,3,26,4],[27,3,27,4],[24,10,24,14],[24,15,24,19],[24,20,24,24],[31,5,31,9],[31,10,31,14],[31,15,31,19],[31,20,31,24],[28,3,28,4],[32,20,32,24],[32,5,32,19],[16,20,16,24],[20,10,20,15],[20,16,20,19],[20,20,20,24],[17,10,17,15],[17,16,17,19],[17,20,17,24],[18,20,18,24],[12,4,12,9],[10,4,10,9],[29,3,29,4],[30,3,30,4],[25,3,25,4],[24,5,24,9],[19,4,19,9],[20,4,20,9],[16,4,16,9],[17,4,17,9],[18,4,18,9]]}
[]
[null,null,null,"Farm to School - Local Food Incentive Form"]
[]
[]
[]
[]
[]
[null,null,null,{"$f":"'October Overview'!D8","v":"(Enter CNP District/System Name)"}]
[null,null,null,"February 1, 2026 - February 28, 2026"]
[]
[null,null,null,"Product","Amount Purchased",null,null,null,null,null,"Received From\n(Distributor or Direct Sale from Farmers)",null,null,null,null,null,"Origin of Product (County)",null,null,null,"Farm/Farmer Name"]
[]
[]
[]
[]
[]
[]
[]
[]
[]
[]
[]
[]
[null,null,null,"Number of Meal Components Served from Alabama"]
[null,null,null,null,null,"2/2 - 2/6",null,null,null,null,"2/9 - 2/13",null,null,null,null,"2/16 - 2/20",null,null,null,null,"2/23 - 2/27"]
[null,null,null,"Name",null,"M","T","W","T","F","M","T","W","T","F","M","T","W","T","F","M","T","W","T","F"]
[null,null,null,"Breakfast"]
[null,null,null,"Lunch"]
[null,null,null,"After School Snack"]
[null,null,null,"FFVP Program"]
[null,null,null,"Supper/Dinner Service"]
[null,null,null,"Total Meals Per Week",null,{"$f":"SUM(F27:J31)","v":0},null,null,null,null,{"$f":"SUM(K27:O31)","v":0},null,null,null,null,{"$f":"SUM(P27:T31)","v":0},null,null,null,null,{"$f":"SUM(U27:Y31)","v":0}]
[null,null,null,null,null,"Total Estimated Payment",null,null,null,null,null,null,null,null,null,null,null,null,null,null,{"$f":"(SUM(F32:Y32)*0.2)","v":0},null,null,null,null,null,null,{"$f":"U33","v":0}]

{"sheet":"March Overview","index":7,"n_rows":33,"n_cols":26,"rows_kept":33,"cut":false,"hidden":false,"merged":[[10,20,10,25],[20,20,20,25],[12,20,12,25],[11,20,11,25],[13,20,13,25],[14,20,14,25],[15,20,15,25],[16,20,16,25],[17,20,17,25],[18,20,18,25],[19,20,19,25],[23,3,23,25],[32,19,32,25],[31,24,31,25],[24,24,24,25],[24,14,24,18],[31,14,31,18],[24,19,24,23],[31,19,31,23],[32,4,32,18],[0,17,0,18],[1,3,3,5],[4,4,4,5],[7,3,7,12],[8,3,8,4],[10,4,10,9],[33,17,33,18],[10,10,10,15],[24,4,24,8],[31,4,31,8],[24,9,24,13],[31,9,31,13],[10,16,10,19],[11,4,11,9],[11,10,11,15],[11,16,11,19],[12,4,12,9],[12,10,12,15],[12,16,12,19],[13,4,13,9],[13,10,13,15],[13,16,13,19],[14,4,14,9],[14,10,14,15],[14,16,14,19],[15,4,15,9],[15,10,15,15],[15,16,15,19],[16,4,16,9],[16,10,16,15],[16,16,16,19],[17,4,17,9],[17,10,17,15],[17,16,17,19],[20,4,20,9],[20,10,20,15],[20,16,20,19],[18,4,18,9],[18,10,18,15],[18,16,18,19],[19,4,19,9],[19,10,19,15],[19,16,19,19]]}
[]
[null,null,null,"Farm to School - Local Food Incentive Form"]
[]
[]
[]
[]
[]
[null,null,null,{"$f":"'October Overview'!D8","v":"(Enter CNP District/System Name)"}]
[null,null,null,"March 1, 2026 - March 31, 2026"]
[]
[null,null,null,"Product","Amount Purchased",null,null,null,null,null,"Received From\n(Distributor or Direct Sale from Farmer)",null,null,null,null,null,"Origin of Product (County)",null,null,null,"Farm/Farmer Name"]
[]
[]
[]
[]
[]
[]
[]
[]
[]
[]
[]
[]
[null,null,null,"Number of Meal Components Served from Alabama"]
[null,null,null,null,"3/2 - 3/6",null,null,null,null,"3/9 - 3/13",null,null,null,null,"3/16 - 3/20",null,null,null,null,"3/23 - 3/27",null,null,null,null,"3/30 - 3/31"]
[null,null,null,"Name","M","T","W","T","F","M","T","W","T","F","M","T","W","T","F","M","T","W","T","F","M","T"]
[null,null,null,"Breakfast"]
[null,null,null,"Lunch"]
[null,null,null,"After School Snack"]
[null,null,null,"FFVP Program"]
[null,null,null,"Supper/Dinner Service"]
[null,null,null,"Total Meals Per Week",{"$f":"SUM(E27:I31)","v":0},null,null,null,null,{"$f":"SUM(J27:N31)","v":0},null,null,null,null,{"$f":"SUM(O27:S31)","v":0},null,null,null,null,{"$f":"SUM(T27:X31)","v":0},null,null,null,null,{"$f":"SUM(Y27:Z31)","v":0}]
[null,null,null,null,"Total Estimated Payment",null,null,null,null,null,null,null,null,null,null,null,null,null,null,{"$f":"SUM(E32:Z32)*0.2","v":0}]

{"sheet":"April Overview","index":8,"n_rows":33,"n_cols":30,"rows_kept":33,"cut":false,"hidden":false,"merged":[[31,22,31,25],[31,17,31,21],[31,12,31,16],[32,22,32,25],[32,4,32,21],[31,7,31,11],[31,4,31,6],[11,16,11,19],[13,20,13,25],[24,4,24,6],[24,7,24,11],[24,12,24,16],[24,17,24,21],[24,22,24,25],[14,20,14,25],[19,16,19,19],[19,20,19,25],[15,4,15,9],[15,10,15,15],[15,16,15,19],[15,20,15,25],[16,4,16,9],[16,10,16,15],[0,19,0,20],[1,3,3,7],[4,4,4,7],[7,3,7,14],[8,3,8,6],[33,19,33,20],[23,3,23,25],[10,4,10,9],[10,10,10,15],[11,4,11,9],[11,10,11,15],[13,4,13,9],[11,20,11,25],[12,4,12,9],[12,10,12,15],[12,16,12,19],[12,20,12,25],[13,10,13,15],[13,16,13,19],[10,16,10,19],[10,20,10,25],[16,16,16,19],[16,20,16,25],[19,4,19,9],[19,10,19,15],[14,4,14,9],[14,10,14,15],[14,16,14,19],[17,4,17,9],[17,10,17,15],[17,16,17,19],[17,20,17,25],[20,4,20,9],[20,10,20,15],[20,16,20,19],[20,20,20,25],[18,4,18,9],[18,10,18,15],[18,16,18,19],[18,20,18,25]]}
[]
[null,null,null,"Farm to School - Local Food Incentive Form"]
[]
[]
[]
[]
[]
[null,null,null,{"$f":"'October Overview'!D8","v":"(Enter CNP District/System Name)"}]
[null,null,null,"April 1, 2026 - April 30, 2026"]
[]
[null,null,null,"Product","Amount Purchased",null,null,null,null,null,"Received From\n(Distributor or Direct Sale from Farmers)",null,null,null,null,null,"Origin of Product (County)",null,null,null,"Farm/Farmer Name"]
[]
[]
[]
[]
[]
[]
[]
[]
[]
[]
[]
[]
[null,null,null,"Number of Meal Components Served from Alabama"]
[null,null,null,null,"4/1 - 4/3",null,null,"4/6 - 4/10",null,null,null,null,"4/13 - 4/17",null,null,null,null,"4/20 - 4/24",null,null,null,null,"4/27 - 4/30"]
[null,null,null,"Name","W","T","F","M","T","W","T","F","M","T","W","T","F","M","T","W","T","F","M","T","W","T"]
[null,null,null,"Breakfast"]
[null,null,null,"Lunch"]
[null,null,null,"After School Snack"]
[null,null,null,"FFVP Program"]
[null,null,null,"Supper/Dinner Service"]
[null,null,null,"Total Meals Per Week",{"$f":"SUM(E27:G31)","v":0},null,null,{"$f":"SUM(H27:L31)","v":0},null,null,null,null,{"$f":"SUM(M27:Q31)","v":0},null,null,null,null,{"$f":"SUM(R27:V31)","v":0},null,null,null,null,{"$f":"SUM(W27:Z31)","v":0}]
[null,null,null,null,"Total Estimated Payment",null,null,null,null,null,null,null,null,null,null,null,null,null,null,null,null,null,{"$f":"SUM(E32:Z32)*0.2","v":0},null,null,null,null,{"$f":"W33","v":0},null,{"$f":"W33","v":0}]

{"sheet":"May Overview","index":9,"n_rows":33,"n_cols":30,"rows_kept":33,"cut":false,"hidden":false,"merged":[[24,7,24,11],[24,12,24,16],[24,17,24,21],[16,20,16,26],[17,20,17,26],[18,20,18,26],[19,4,19,9],[19,10,19,15],[19,16,19,19],[16,4,16,9],[16,10,16,15],[16,16,16,19],[19,20,19,26],[20,10,20,15],[20,16,20,19],[0,17,0,18],[12,16,12,19],[10,20,10,26],[11,20,11,26],[10,16,10,19],[11,16,11,19],[15,4,15,9],[12,20,12,26],[15,20,15,26],[13,20,13,26],[14,20,14,26],[15,16,15,19],[13,4,13,9],[1,3,3,5],[4,4,4,5],[7,3,7,12],[8,3,8,4],[12,10,12,15],[10,10,10,15],[11,10,11,15],[10,4,10,9],[11,4,11,9],[12,4,12,9],[33,17,33,18],[31,7,31,11],[31,12,31,16],[31,17,31,21],[23,3,23,26],[24,22,24,26],[31,22,31,26],[24,3,24,5],[25,3,25,5],[31,3,31,5],[32,3,32,5],[32,6,32,21],[26,3,26,5],[29,3,29,5],[30,3,30,5],[27,3,27,5],[32,22,32,26],[13,10,13,15],[13,16,13,19],[14,4,14,9],[14,10,14,15],[14,16,14,19],[20,20,20,26],[17,4,17,9],[17,10,17,15],[17,16,17,19],[18,4,18,9],[18,10,18,15],[18,16,18,19],[28,3,28,5],[20,4,20,9],[15,10,15,15]]}
[]
[null,null,null,"Farm to School - Local Food Incentive Form"]
[]
[]
[]
[]
[]
[null,null,null,{"$f":"'October Overview'!D8","v":"(Enter CNP District/System Name)"}]
[null,null,null,"May 1, 2026 - May 31, 2026"]
[]
[null,null,null,"Product","Amount Purchased",null,null,null,null,null,"Received From\n(Distributor or Direct Sale from Farmer)",null,null,null,null,null,"Origin of Product (County)",null,null,null,"Farm/Farmer Name"]
[]
[]
[]
[]
[]
[]
[]
[]
[]
[]
[]
[]
[null,null,null,"Number of Meal Components Served from Alabama"]
[null,null,null,null,null,null,"2025-05-01","5/4 - 5/8",null,null,null,null,"5/11 - 5/15",null,null,null,null,"5/18 - 5/22",null,null,null,null,"5/25 - 5/29"]
[null,null,null,"Name",null,null,"F","M","T","W","T","F","M","T","W","T","F","M","T","W","T","F","M","T","W","T","F"]
[null,null,null,"Breakfast"]
[null,null,null,"Lunch"]
[null,null,null,"After School Snack"]
[null,null,null,"FFVP Program"]
[null,null,null,"Supper/Dinner Service"]
[null,null,null,"Total Meals Per Week",null,null,{"$f":"SUM(G27:G31)","v":0},{"$f":"SUM(H27:L31)","v":0},null,null,null,null,{"$f":"SUM(M27:Q31)","v":0},null,null,null,null,{"$f":"SUM(R27:V31)","v":0},null,null,null,null,{"$f":"SUM(W27:AA31)","v":0}]
[null,null,null,null,null,null,"Total Estimated Payment",null,null,null,null,null,null,null,null,null,null,null,null,null,null,null,{"$f":"SUM(G32:AA32)*0.2","v":0},null,null,null,null,{"$f":"W33","v":0},{"$f":"W33","v":0},{"$f":"W33","v":0}]

{"sheet":"June Overview","index":10,"n_rows":33,"n_cols":26,"rows_kept":33,"cut":false,"hidden":false,"merged":[[0,17,0,18],[18,10,18,15],[18,16,18,19],[1,3,3,5],[4,4,4,5],[7,3,7,12],[8,3,8,4],[11,10,11,15],[10,4,10,9],[11,4,11,9],[12,4,12,9],[13,4,13,9],[15,4,15,9],[14,4,14,9],[17,16,17,19],[13,16,13,19],[33,17,33,18],[20,4,20,9],[20,10,20,15],[20,16,20,19],[24,19,24,23],[31,19,31,23],[20,20,20,25],[14,16,14,19],[17,4,17,9],[15,16,15,19],[16,16,16,19],[12,16,12,19],[16,10,16,15],[16,4,16,9],[12,10,12,15],[13,10,13,15],[15,10,15,15],[14,10,14,15],[18,4,18,9],[19,4,19,9],[17,10,17,15],[32,4,32,18],[24,14,24,18],[31,4,31,8],[31,9,31,13],[31,14,31,18],[24,4,24,8],[24,9,24,13],[19,10,19,15],[19,16,19,19],[23,19,23,25],[32,19,32,25],[24,24,24,25],[31,24,31,25],[10,16,10,19],[11,16,11,19],[10,10,10,15],[10,20,10,25],[11,20,11,25],[17,20,17,25],[18,20,18,25],[19,20,19,25],[12,20,12,25],[13,20,13,25],[14,20,14,25],[15,20,15,25],[16,20,16,25]]}
[]
[null,null,null,"Farm to School - Local Food Incentive Form"]
[]
[]
[]
[]
[]
[null,null,null,{"$f":"'October Overview'!D8","v":"(Enter CNP District/System Name)"}]
[null,null,null,"June 1, 2026 - June 30, 2026"]
[]
[null,null,null,"Product","Amount Purchased",null,null,null,null,null,"Received From\n(Distributor or  Direct Sale from Farmer)",null,null,null,null,null,"Origin of Product (County)",null,null,null,"Farm/Farmer Name"]
[]
[]
[]
[]
[]
[]
[]
[]
[]
[]
[]
[]
[null,null,null,"Number of Meal Components Served from Alabama"]
[null,null,null,null,"6/1 - 6/5",null,null,null,null,"6/8 - 6/12",null,null,null,null,"6/15 - 6/19",null,null,null,null,"6/22 - 6/26",null,null,null,null,"6/29 - 6/30"]
[null,null,null,"Name","M","T","W","T","F","M","T","W","T","F","M","T","W","T","F","M","T","W","T","F","M","M"]
[null,null,null,"Breakfast"]
[null,null,null,"Lunch"]
[null,null,null,"After School Snack"]
[null,null,null,"FFVP Program"]
[null,null,null,"Supper/Dinner Service"]
[null,null,null,"Total Meals Per Week",{"$f":"SUM(E27:I31)","v":0},null,null,null,null,{"$f":"SUM(J27:N31)","v":0},null,null,null,null,{"$f":"SUM(O27:S31)","v":0},null,null,null,null,{"$f":"SUM(T27:X31)","v":0},null,null,null,null,{"$f":"SUM(Y27:Z31)","v":0}]
[null,null,null,null,"Total Estimated Payment",null,null,null,null,null,null,null,null,null,null,null,null,null,null,{"$f":"SUM(E32:Z32)*0.2","v":0}]

{"sheet":"July Overview","index":11,"n_rows":33,"n_cols":27,"rows_kept":33,"cut":false,"hidden":false,"merged":[[12,10,12,15],[13,4,13,9],[13,10,13,15],[12,4,12,9],[14,10,14,15],[10,4,10,9],[10,10,10,15],[10,16,10,19],[11,4,11,9],[11,10,11,15],[11,16,11,19],[0,19,0,20],[1,3,3,7],[4,4,4,7],[7,3,7,14],[8,3,8,6],[10,20,10,26],[11,20,11,26],[15,20,15,26],[12,20,12,26],[13,20,13,26],[14,20,14,26],[12,16,12,19],[13,16,13,19],[14,16,14,19],[33,19,33,20],[20,20,20,26],[23,3,23,26],[20,4,20,9],[20,10,20,15],[20,16,20,19],[32,22,32,26],[32,4,32,21],[15,10,15,15],[15,16,15,19],[14,4,14,9],[16,4,16,9],[17,4,17,9],[15,4,15,9],[18,4,18,9],[19,4,19,9],[16,20,16,26],[17,20,17,26],[18,20,18,26],[19,20,19,26],[16,10,16,15],[16,16,16,19],[17,10,17,15],[17,16,17,19],[18,10,18,15],[18,16,18,19],[19,10,19,15],[19,16,19,19],[24,22,24,26],[31,4,31,6],[31,7,31,11],[31,12,31,16],[31,17,31,21],[31,22,31,26],[24,4,24,6],[24,7,24,11],[24,12,24,16],[24,17,24,21]]}
[]
[null,null,null,"Farm to School - Local Food Incentive Form"]
[]
[]
[]
[]
[]
[null,null,null,{"$f":"'October Overview'!D8","v":"(Enter CNP District/System Name)"}]
[null,null,null,"July 1, 2026 - July 31, 2026"]
[]
[null,null,null,"Product","Amount Purchased",null,null,null,null,null,"Received From\n(Distributor or  Direct Sale from Farmer)",null,null,null,null,null,"Origin of Product (County)",null,null,null,"Farm/Farmer Name"]
[]
[]
[]
[]
[]
[]
[]
[]
[]
[]
[]
[]
[null,null,null,"Number of Meal Components Served from Alabama"]
[null,null,null,null,"7/1 - 7/3",null,null,"7/6 - 7/10",null,null,null,null,"7/13 - 7/17",null,null,null,null,"7/20 - 7/24",null,null,null,null,"7/27 - 7/31"]
[null,null,null,"Name","W","T","F","M","T","W","T","F","M","T","W","T","F","M","T","W","T","F","M","T","W","T","F"]
[null,null,null,"Breakfast"]
[null,null,null,"Lunch"]
[null,null,null,"After School Snack"]
[null,null,null,"FFVP Program"]
[null,null,null,"Supper/Dinner Service"]
[null,null,null,"Total Meals Per Week",{"$f":"SUM(E27:G31)","v":0},null,null,{"$f":"SUM(H27:L31)","v":0},null,null,null,null,{"$f":"SUM(M27:Q31)","v":0},null,null,null,null,{"$f":"SUM(R27:V31)","v":0},null,null,null,null,{"$f":"SUM(W27:AA31)","v":0}]
[null,null,null,null,"Total Estimated Payment",null,null,null,null,null,null,null,null,null,null,null,null,null,null,null,null,null,{"$f":"SUM(E32:AA32)*0.2","v":0}]

{"sheet":"August Overview","index":12,"n_rows":33,"n_cols":28,"rows_kept":33,"cut":false,"hidden":false,"merged":[[32,19,32,24],[32,4,32,18],[24,4,24,8],[24,9,24,13],[24,14,24,18],[24,19,24,23],[31,4,31,8],[31,9,31,13],[31,14,31,18],[31,19,31,23],[33,17,33,18],[10,9,10,14],[10,15,10,18],[10,19,10,24],[11,19,11,24],[12,9,12,14],[12,15,12,18],[12,19,12,24],[11,9,11,14],[11,15,11,18],[13,19,13,24],[23,3,23,24],[13,9,13,14],[13,15,13,18],[10,4,10,8],[11,4,11,8],[0,17,0,18],[1,3,3,5],[4,4,4,5],[7,3,7,12],[8,3,8,4],[12,4,12,8],[13,4,13,8],[15,4,15,8],[16,4,16,8],[14,9,14,14],[14,15,14,18],[14,19,14,24],[14,4,14,8],[17,15,17,18],[15,9,15,14],[15,15,15,18],[15,19,15,24],[16,9,16,14],[16,15,16,18],[16,19,16,24],[17,4,17,8],[18,4,18,8],[19,4,19,8],[20,4,20,8],[19,9,19,14],[19,15,19,18],[19,19,19,24],[20,9,20,14],[20,15,20,18],[20,19,20,24],[17,19,17,24],[18,9,18,14],[18,15,18,18],[18,19,18,24],[17,9,17,14]]}
[]
[null,null,null,"Farm to School - Local Food Incentive Form"]
[]
[]
[]
[]
[]
[null,null,null,{"$f":"'October Overview'!D8","v":"(Enter CNP District/System Name)"}]
[null,null,null,"August 1, 2026 - August 31, 2026"]
[]
[null,null,null,"Product","Amount Purchased",null,null,null,null,"Received From\n(Distributor or Direct Sale from Farmer)",null,null,null,null,null,"Origin of Product (County)",null,null,null,"Farm/Farmer Name"]
[]
[]
[]
[]
[]
[]
[]
[]
[]
[]
[]
[]
[null,null,null,"Number of Meal Components Served from Alabama"]
[null,null,null,null,"8/3 - 8/7",null,null,null,null,"8/11 - 8/15",null,null,null,null,"8/18 - 8/22",null,null,null,null,"8/25 - 8/29",null,null,null,null,"8/31"]
[null,null,null,"Name","M","T","W","T","F","M","T","W","T","F","M","T","W","T","F","M","T","W","T","F","M"]
[null,null,null,"Breakfast"]
[null,null,null,"Lunch"]
[null,null,null,"After School Snack"]
[null,null,null,"FFVP Program"]
[null,null,null,"Supper/Dinner Service"]
[null,null,null,"Total Meals Per Week",{"$f":"SUM(E27:I31)","v":0},null,null,null,null,{"$f":"SUM(J27:N31)","v":0},null,null,null,null,{"$f":"SUM(O27:S31)","v":0},null,null,null,null,{"$f":"SUM(T27:X31)","v":0},null,null,null,null,{"$f":"SUM(Y27:Y31)","v":0}]
[null,null,null,null,"Total Estimated Payment",null,null,null,null,null,null,null,null,null,null,null,null,null,null,{"$f":"SUM(E32:Y32)*0.2","v":0},null,null,null,null,null,null,{"$f":"R33","v":0},{"$f":"R33","v":0}]

{"sheet":"September '26 Overview","index":13,"n_rows":33,"n_cols":30,"rows_kept":33,"cut":false,"hidden":false,"merged":[[32,19,32,26],[32,5,32,18],[27,3,27,4],[28,3,28,4],[29,3,29,4],[30,3,30,4],[31,5,31,8],[31,9,31,13],[31,19,31,23],[31,24,31,26],[33,17,33,18],[32,3,32,4],[31,3,31,4],[25,3,25,4],[26,3,26,4],[31,14,31,18],[20,4,20,9],[20,10,20,15],[20,16,20,19],[24,5,24,8],[24,9,24,13],[24,14,24,18],[24,19,24,23],[23,3,23,26],[24,3,24,4],[24,24,24,26],[19,4,19,9],[19,10,19,15],[19,16,19,19],[18,4,18,9],[18,10,18,15],[18,16,18,19],[17,4,17,9],[17,10,17,15],[17,16,17,19],[16,4,16,9],[16,10,16,15],[16,16,16,19],[15,4,15,9],[15,10,15,15],[15,16,15,19],[14,4,14,9],[14,10,14,15],[14,16,14,19],[13,4,13,9],[13,10,13,15],[13,16,13,19],[12,4,12,9],[12,10,12,15],[12,16,12,19],[11,4,11,9],[11,10,11,15],[11,16,11,19],[10,4,10,9],[10,10,10,15],[10,16,10,19],[10,20,10,26],[0,17,0,18],[1,3,3,5],[4,4,4,5],[7,3,7,12],[8,3,8,8],[11,20,11,26],[12,20,12,26],[13,20,13,26],[14,20,14,26],[15,20,15,26],[16,20,16,26],[17,20,17,26],[18,20,18,26],[19,20,19,26],[20,20,20,26]]}
[]
[null,null,null,"Farm to School - Local Food Incentive Form"]
[]
[]
[]
[]
[]
[null,null,null,{"$f":"'October Overview'!D8","v":"(Enter CNP District/System Name)"}]
[null,null,null,"September 1, 2026 - September 30, 2026"]
[]
[null,null,null,"Product","Amount Purchased",null,null,null,null,null,"Received From\n(Distributor or Direct Sale from Farmer) ",null,null,null,null,null,"Origin of Product (County)",null,null,null,"Farm/Farmer Name"]
[]
[]
[]
[]
[]
[]
[]
[]
[]
[]
[]
[]
[null,null,null,"Number of Meal Components Served from Alabama"]
[null,null,null,null,null,"9/1 - 9/4",null,null,null,"9/7 - 9/11",null,null,null,null,"9/14 - 9/18",null,null,null,null,"9/21 - 9/25",null,null,null,null,"9/28 - 9/30"]
[null,null,null,"Name",null,"T ","W","T","F","M","T","W","T","F","M","T","W","T","F","M","T","W","T","F","M","T","W"]
[null,null,null,"Breakfast"]
[null,null,null,"Lunch"]
[null,null,null,"After School Snack"]
[null,null,null,"FFVP Program"]
[null,null,null,"Supper/Dinner Service"]
[null,null,null,"Total Meals Per Week",null,{"$f":"SUM(F27:I31)","v":0},null,null,null,{"$f":"SUM(J27:N31)","v":0},null,null,null,null,{"$f":"SUM(O27:S31)","v":0},null,null,null,null,{"$f":"SUM(T27:X31)","v":0},null,null,null,null,{"$f":"SUM(Y27:AA31)","v":0}]
[null,null,null,null,null,"Total Estimated Payment",null,null,null,null,null,null,null,null,null,null,null,null,null,{"$f":"SUM(F32:AA32)*0.2","v":0},null,null,null,null,null,null,null,null,{"$f":"S33","v":0},{"$f":"S33","v":0}]